BEGIN:VCALENDAR
PRODID:-//nuDatenautomaten//framework iCal4j //DE
VERSION:2.0
CALSCALE:GREGORIAN
BEGIN:VTIMEZONE
TZID:Europe/Berlin
LAST-MODIFIED:20260306T231828Z
TZURL:https://www.tzurl.org/zoneinfo/Europe/Berlin
X-LIC-LOCATION:Europe/Berlin
X-PROLEPTIC-TZNAME:LMT
BEGIN:STANDARD
TZNAME:CET
TZOFFSETFROM:+005328
TZOFFSETTO:+0100
DTSTART:18930401T000000
END:STANDARD
BEGIN:DAYLIGHT
TZNAME:CEST
TZOFFSETFROM:+0100
TZOFFSETTO:+0200
DTSTART:19160430T230000
RDATE:19400401T020000
RDATE:19430329T020000
RDATE:19460414T020000
RDATE:19470406T030000
RDATE:19480418T020000
RDATE:19490410T020000
RDATE:19800406T020000
END:DAYLIGHT
BEGIN:STANDARD
TZNAME:CET
TZOFFSETFROM:+0200
TZOFFSETTO:+0100
DTSTART:19161001T010000
RDATE:19421102T030000
RDATE:19431004T030000
RDATE:19441002T030000
RDATE:19451118T030000
RDATE:19461007T030000
END:STANDARD
BEGIN:DAYLIGHT
TZNAME:CEST
TZOFFSETFROM:+0100
TZOFFSETTO:+0200
DTSTART:19170416T020000
RRULE:FREQ=YEARLY;UNTIL=19180415T010000Z;BYMONTH=4;BYDAY=3MO
END:DAYLIGHT
BEGIN:STANDARD
TZNAME:CET
TZOFFSETFROM:+0200
TZOFFSETTO:+0100
DTSTART:19170917T030000
RRULE:FREQ=YEARLY;UNTIL=19180916T010000Z;BYMONTH=9;BYDAY=3MO
END:STANDARD
BEGIN:DAYLIGHT
TZNAME:CEST
TZOFFSETFROM:+0100
TZOFFSETTO:+0200
DTSTART:19440403T020000
RRULE:FREQ=YEARLY;UNTIL=19450402T010000Z;BYMONTH=4;BYDAY=1MO
END:DAYLIGHT
BEGIN:DAYLIGHT
TZNAME:CEMT
TZOFFSETFROM:+0200
TZOFFSETTO:+0300
DTSTART:19450524T020000
RDATE:19470511T030000
END:DAYLIGHT
BEGIN:DAYLIGHT
TZNAME:CEST
TZOFFSETFROM:+0300
TZOFFSETTO:+0200
DTSTART:19450924T030000
RDATE:19470629T030000
END:DAYLIGHT
BEGIN:STANDARD
TZNAME:CET
TZOFFSETFROM:+0100
TZOFFSETTO:+0100
DTSTART:19460101T000000
RDATE:19800101T000000
END:STANDARD
BEGIN:STANDARD
TZNAME:CET
TZOFFSETFROM:+0200
TZOFFSETTO:+0100
DTSTART:19471005T030000
RRULE:FREQ=YEARLY;UNTIL=19491002T010000Z;BYMONTH=10;BYDAY=1SU
END:STANDARD
BEGIN:STANDARD
TZNAME:CET
TZOFFSETFROM:+0200
TZOFFSETTO:+0100
DTSTART:19800928T030000
RRULE:FREQ=YEARLY;UNTIL=19950924T010000Z;BYMONTH=9;BYDAY=-1SU
END:STANDARD
BEGIN:DAYLIGHT
TZNAME:CEST
TZOFFSETFROM:+0100
TZOFFSETTO:+0200
DTSTART:19810329T020000
RRULE:FREQ=YEARLY;BYMONTH=3;BYDAY=-1SU
END:DAYLIGHT
BEGIN:STANDARD
TZNAME:CET
TZOFFSETFROM:+0200
TZOFFSETTO:+0100
DTSTART:19961027T030000
RRULE:FREQ=YEARLY;BYMONTH=10;BYDAY=-1SU
END:STANDARD
END:VTIMEZONE
BEGIN:VEVENT
DTSTAMP:20260420T060354Z
DTSTART;TZID=Europe/Berlin:20231216T120000
DTEND;TZID=Europe/Berlin:20231216T130000
SUMMARY:THV-MiU11-GD HIT (medalp Handball Tirol) II vs UHC Absam (166)
UID:888dc5a7-ef8b-4233-8259-b99c71cd41cd
STATUS:CONFIRMED
LAST-MODIFIED:20231218T084037Z
DESCRIPTION:Mixed Jugend U11 - Grunddurchgang\nBegegnungs-Nr: 166\nHeim: HIT (medalp Handball Tirol) II\nGast: UHC Absam\nHalle: Sporthalle Hötting-West (07-Hötting)\nAdresse: Viktor Franz Hess Str. 9\, 6020 Innsbruck\n
LOCATION:Sporthalle Hötting-West (07-Hötting): Viktor Franz Hess Str. 9\, 6020 Innsbruck
CATEGORIES:Saison 2023/24
END:VEVENT
BEGIN:VEVENT
DTSTAMP:20260420T060354Z
DTSTART;TZID=Europe/Berlin:20231014T122000
DTEND;TZID=Europe/Berlin:20231014T125000
SUMMARY:THV-TirolCUP-B HIT (medalp Handball Tirol) II vs UHC Absam (194)
UID:71beec01-afc7-40b0-8083-b845fc8622a5
STATUS:CONFIRMED
LAST-MODIFIED:20231016T083839Z
DESCRIPTION:Gruppe B\nBegegnungs-Nr: 194\nHeim: HIT (medalp Handball Tirol) II\nGast: UHC Absam\nHalle: Mittelschule Kundl (07-Kundl)\nAdresse: Dr. Franz-Stumpf-Str. 16\, 6250 Kundl\n
LOCATION:Mittelschule Kundl (07-Kundl): Dr. Franz-Stumpf-Str. 16\, 6250 Kundl
CATEGORIES:Saison 2023/24
END:VEVENT
BEGIN:VEVENT
DTSTAMP:20260420T060354Z
DTSTART;TZID=Europe/Berlin:20240203T140000
DTEND;TZID=Europe/Berlin:20240203T143000
SUMMARY:THV-MiU11-OPO HIT (medalp Handball Tirol) II vs ULZ Sparkasse Schwaz 2 (172)
UID:767ccac9-301d-407d-8f22-95c60fb48567
STATUS:CONFIRMED
LAST-MODIFIED:20240205T070936Z
DESCRIPTION:Mixed Jugend U11 - Oberes Playoff\nBegegnungs-Nr: 172\nHeim: HIT (medalp Handball Tirol) II\nGast: ULZ Sparkasse Schwaz 2\nHalle: Mittelschule Kundl (07-Kundl)\nAdresse: Dr. Franz-Stumpf-Str. 16\, 6250 Kundl\n
LOCATION:Mittelschule Kundl (07-Kundl): Dr. Franz-Stumpf-Str. 16\, 6250 Kundl
CATEGORIES:Saison 2023/24
END:VEVENT
BEGIN:VEVENT
DTSTAMP:20260420T060354Z
DTSTART;TZID=Europe/Berlin:20240203T123000
DTEND;TZID=Europe/Berlin:20240203T130000
SUMMARY:THV-MiU11-OPO HIT (medalp Handball Tirol) II vs SG ASKÖ Lions Kirchbichl/Kundl 2 (169)
UID:b4734352-5375-46a0-af32-d6b6d475e20e
STATUS:CONFIRMED
LAST-MODIFIED:20240205T070605Z
DESCRIPTION:Mixed Jugend U11 - Oberes Playoff\nBegegnungs-Nr: 169\nHeim: HIT (medalp Handball Tirol) II\nGast: SG ASKÖ Lions Kirchbichl/Kundl 2\nHalle: Mittelschule Kundl (07-Kundl)\nAdresse: Dr. Franz-Stumpf-Str. 16\, 6250 Kundl\n
LOCATION:Mittelschule Kundl (07-Kundl): Dr. Franz-Stumpf-Str. 16\, 6250 Kundl
CATEGORIES:Saison 2023/24
END:VEVENT
BEGIN:VEVENT
DTSTAMP:20260420T060354Z
DTSTART;TZID=Europe/Berlin:20231216T124500
DTEND;TZID=Europe/Berlin:20231216T134500
SUMMARY:THV-MiU11-GD ULZ Sparkasse Schwaz 2 vs HIT (medalp Handball Tirol) II (167)
UID:0c8a60b1-cd56-4b97-b9e0-51a74cb089ec
STATUS:CONFIRMED
LAST-MODIFIED:20231218T084155Z
DESCRIPTION:Mixed Jugend U11 - Grunddurchgang\nBegegnungs-Nr: 167\nHeim: ULZ Sparkasse Schwaz 2\nGast: HIT (medalp Handball Tirol) II\nHalle: Sporthalle Hötting-West (07-Hötting)\nAdresse: Viktor Franz Hess Str. 9\, 6020 Innsbruck\n
LOCATION:Sporthalle Hötting-West (07-Hötting): Viktor Franz Hess Str. 9\, 6020 Innsbruck
CATEGORIES:Saison 2023/24
END:VEVENT
BEGIN:VEVENT
DTSTAMP:20260420T060354Z
DTSTART;TZID=Europe/Berlin:20231216T103000
DTEND;TZID=Europe/Berlin:20231216T113000
SUMMARY:THV-MiU11-GD HIT (medalp Handball Tirol) vs HIT (medalp Handball Tirol) II (164)
UID:e7b02b5b-b59e-4876-8e97-11dfb3960cac
STATUS:CONFIRMED
LAST-MODIFIED:20231218T083459Z
DESCRIPTION:Mixed Jugend U11 - Grunddurchgang\nBegegnungs-Nr: 164\nHeim: HIT (medalp Handball Tirol)\nGast: HIT (medalp Handball Tirol) II\nHalle: Sporthalle Hötting-West (07-Hötting)\nAdresse: Viktor Franz Hess Str. 9\, 6020 Innsbruck\n
LOCATION:Sporthalle Hötting-West (07-Hötting): Viktor Franz Hess Str. 9\, 6020 Innsbruck
CATEGORIES:Saison 2023/24
END:VEVENT
BEGIN:VEVENT
DTSTAMP:20260420T060354Z
DTSTART;TZID=Europe/Berlin:20231014T114000
DTEND;TZID=Europe/Berlin:20231014T121000
SUMMARY:THV-TirolCUP-B HIT (medalp Handball Tirol) vs HIT (medalp Handball Tirol) II (192)
UID:568d5c62-ec97-4cf8-9256-a84877936a4c
STATUS:CONFIRMED
LAST-MODIFIED:20231016T083517Z
DESCRIPTION:Gruppe B\nBegegnungs-Nr: 192\nHeim: HIT (medalp Handball Tirol)\nGast: HIT (medalp Handball Tirol) II\nHalle: Mittelschule Kundl (07-Kundl)\nAdresse: Dr. Franz-Stumpf-Str. 16\, 6250 Kundl\n
LOCATION:Mittelschule Kundl (07-Kundl): Dr. Franz-Stumpf-Str. 16\, 6250 Kundl
CATEGORIES:Saison 2023/24
END:VEVENT
BEGIN:VEVENT
DTSTAMP:20260420T060354Z
DTSTART;TZID=Europe/Berlin:20240203T130000
DTEND;TZID=Europe/Berlin:20240203T133000
SUMMARY:THV-MiU11-OPO SG ASKÖ Lions Kirchbichl/Kundl 1 vs HIT (medalp Handball Tirol) II (170)
UID:1ea38d91-682e-4f4e-aca4-1406644ea7ec
STATUS:CONFIRMED
LAST-MODIFIED:20240205T070650Z
DESCRIPTION:Mixed Jugend U11 - Oberes Playoff\nBegegnungs-Nr: 170\nHeim: SG ASKÖ Lions Kirchbichl/Kundl 1\nGast: HIT (medalp Handball Tirol) II\nHalle: Mittelschule Kundl (07-Kundl)\nAdresse: Dr. Franz-Stumpf-Str. 16\, 6250 Kundl\n
LOCATION:Mittelschule Kundl (07-Kundl): Dr. Franz-Stumpf-Str. 16\, 6250 Kundl
CATEGORIES:Saison 2023/24
END:VEVENT
BEGIN:VEVENT
DTSTAMP:20260420T060354Z
DTSTART;TZID=Europe/Berlin:20240413T103000
DTEND;TZID=Europe/Berlin:20240413T113000
SUMMARY:THV-MiU11-FIN SG ASKÖ Lions Kirchbichl/Kundl 2 vs HIT (medalp Handball Tirol) II (182)
UID:8aceed32-37fb-489b-884c-a43425e6baca
STATUS:CONFIRMED
LAST-MODIFIED:20240422T095605Z
DESCRIPTION:Mixed Jugend U11 - Finale und Platzierungsspiele\nBegegnungs-Nr: 182\nHeim: SG ASKÖ Lions Kirchbichl/Kundl 2\nGast: HIT (medalp Handball Tirol) II\nHalle: Mittelschule Kundl (07-Kundl)\nAdresse: Dr. Franz-Stumpf-Str. 16\, 6250 Kundl\n
LOCATION:Mittelschule Kundl (07-Kundl): Dr. Franz-Stumpf-Str. 16\, 6250 Kundl
CATEGORIES:Saison 2023/24
END:VEVENT
BEGIN:VEVENT
DTSTAMP:20260420T060354Z
DTSTART;TZID=Europe/Berlin:20231014T124000
DTEND;TZID=Europe/Berlin:20231014T131000
SUMMARY:THV-TirolCUP-B ULZ Sparkasse Schwaz 2 vs HIT (medalp Handball Tirol) II (195)
UID:9e731d09-e7ab-4d58-aa05-1f46cefee633
STATUS:CONFIRMED
LAST-MODIFIED:20231016T083932Z
DESCRIPTION:Gruppe B\nBegegnungs-Nr: 195\nHeim: ULZ Sparkasse Schwaz 2\nGast: HIT (medalp Handball Tirol) II\nHalle: Mittelschule Kundl (07-Kundl)\nAdresse: Dr. Franz-Stumpf-Str. 16\, 6250 Kundl\n
LOCATION:Mittelschule Kundl (07-Kundl): Dr. Franz-Stumpf-Str. 16\, 6250 Kundl
CATEGORIES:Saison 2023/24
END:VEVENT
BEGIN:VEVENT
DTSTAMP:20260420T060354Z
DTSTART;TZID=Europe/Berlin:20231014T132000
DTEND;TZID=Europe/Berlin:20231014T135000
SUMMARY:THV-TirolCUP-FIN SG ASKÖ Lions Kirchbichl/Kundl 2 vs HIT (medalp Handball Tirol) II (197)
UID:4dd01a25-e911-4f19-84f9-1e5f203e9885
STATUS:CONFIRMED
LAST-MODIFIED:20231016T084820Z
DESCRIPTION:Finale und Platzierungsspiele\nBegegnungs-Nr: 197\nHeim: SG ASKÖ Lions Kirchbichl/Kundl 2\nGast: HIT (medalp Handball Tirol) II\nHalle: Mittelschule Kundl (07-Kundl)\nAdresse: Dr. Franz-Stumpf-Str. 16\, 6250 Kundl\n
LOCATION:Mittelschule Kundl (07-Kundl): Dr. Franz-Stumpf-Str. 16\, 6250 Kundl
CATEGORIES:Saison 2023/24
END:VEVENT
END:VCALENDAR
